BEGIN:VCALENDAR
VERSION:2.0
PRODID:-//wp-events-plugin.com//7.2.3.1//EN
BEGIN:VEVENT
UID:48@wereldwinkelraalte.nl
DTSTART:20240911T133000Z
DTEND:20240911T153000Z
DTSTAMP:20240816T064414Z
URL:https://wereldwinkelraalte.nl/events/bestuursvergadering-5/
SUMMARY:Bestuursvergadering
DESCRIPTION:Bij Anton
CATEGORIES:Bestuursvergadering
END:VEVENT
END:VCALENDAR